BEGIN:VCALENDAR
VERSION:2.0
PRODID:-//Panhandle Pathway - ECPv6.13.2.1//NONSGML v1.0//EN
CALSCALE:GREGORIAN
METHOD:PUBLISH
X-ORIGINAL-URL:https://www.panhandlepathway.org
X-WR-CALDESC:Events for Panhandle Pathway
REFRESH-INTERVAL;VALUE=DURATION:PT1H
X-Robots-Tag:noindex
X-PUBLISHED-TTL:PT1H
BEGIN:VTIMEZONE
TZID:UTC
BEGIN:STANDARD
TZOFFSETFROM:+0000
TZOFFSETTO:+0000
TZNAME:UTC
DTSTART:20230101T000000
END:STANDARD
END:VTIMEZONE
BEGIN:VEVENT
DTSTART;VALUE=DATE:20230422
DTEND;VALUE=DATE:20230423
DTSTAMP:20260424T013855
CREATED:20230322T145019Z
LAST-MODIFIED:20230322T145019Z
UID:2454-1682121600-1682207999@www.panhandlepathway.org
SUMMARY:Celebrate Trails Day 2023
DESCRIPTION:April 22 is !Celebrate Trails Day and #EarthDay\, so it’s the perfect time to get outside to \ncelebrate the Panhandle Pathway in Cass and Pulaski Counties
URL:https://www.panhandlepathway.org/event/celebrate-trails-day-2023/
LOCATION:IN
END:VEVENT
END:VCALENDAR