BEGIN:VCALENDAR
VERSION:2.0
PRODID:-//Panhandle Pathway - ECPv6.13.2.1//NONSGML v1.0//EN
CALSCALE:GREGORIAN
METHOD:PUBLISH
X-ORIGINAL-URL:https://www.panhandlepathway.org
X-WR-CALDESC:Events for Panhandle Pathway
REFRESH-INTERVAL;VALUE=DURATION:PT1H
X-Robots-Tag:noindex
X-PUBLISHED-TTL:PT1H
BEGIN:VTIMEZONE
TZID:UTC
BEGIN:STANDARD
TZOFFSETFROM:+0000
TZOFFSETTO:+0000
TZNAME:UTC
DTSTART:20230101T000000
END:STANDARD
END:VTIMEZONE
BEGIN:VEVENT
DTSTART;TZID=UTC:20230525T183000
DTEND;TZID=UTC:20230525T200000
DTSTAMP:20260424T001105
CREATED:20230405T190858Z
LAST-MODIFIED:20230405T190858Z
UID:2465-1685039400-1685044800@www.panhandlepathway.org
SUMMARY:Friends of the Panhandle Pathway Board Meeting
DESCRIPTION:
URL:https://www.panhandlepathway.org/event/friends-of-the-panhandle-pathway-board-meeting-4/
LOCATION:Pulaski County CDC Office\, 623 W. 11th St.\, Winamac\, IN\, 46996
CATEGORIES:Meeting
END:VEVENT
END:VCALENDAR