BEGIN:VCALENDAR
VERSION:2.0
PRODID:-//Panhandle Pathway - ECPv6.13.2.1//NONSGML v1.0//EN
CALSCALE:GREGORIAN
METHOD:PUBLISH
X-ORIGINAL-URL:https://www.panhandlepathway.org
X-WR-CALDESC:Events for Panhandle Pathway
REFRESH-INTERVAL;VALUE=DURATION:PT1H
X-Robots-Tag:noindex
X-PUBLISHED-TTL:PT1H
BEGIN:VTIMEZONE
TZID:UTC
BEGIN:STANDARD
TZOFFSETFROM:+0000
TZOFFSETTO:+0000
TZNAME:UTC
DTSTART:20260101T000000
END:STANDARD
END:VTIMEZONE
BEGIN:VEVENT
DTSTART;TZID=UTC:20260129T183000
DTEND;TZID=UTC:20260129T203000
DTSTAMP:20260421T205745
CREATED:20251014T211649Z
LAST-MODIFIED:20251014T211649Z
UID:2789-1769711400-1769718600@www.panhandlepathway.org
SUMMARY:Friends of the Panhandle Pathway Annual Membership and Board Meetings
DESCRIPTION:The Annual Membership Meeting is for the election of Directors and for the transaction of such other business as may properly come before the meeting. \nBoard meeting agenda to be determined. Virtual link also available.
URL:https://www.panhandlepathway.org/event/friends-of-the-panhandle-pathway-annual-membership-and-board-meetings/
LOCATION:Gilsinger’s Meeting House in Pulaski\, IN\, United States
CATEGORIES:Meeting
END:VEVENT
END:VCALENDAR