BEGIN:VCALENDAR
VERSION:2.0
PRODID:-//Panhandle Pathway - ECPv6.13.2.1//NONSGML v1.0//EN
CALSCALE:GREGORIAN
METHOD:PUBLISH
X-ORIGINAL-URL:https://www.panhandlepathway.org
X-WR-CALDESC:Events for Panhandle Pathway
REFRESH-INTERVAL;VALUE=DURATION:PT1H
X-Robots-Tag:noindex
X-PUBLISHED-TTL:PT1H
BEGIN:VTIMEZONE
TZID:UTC
BEGIN:STANDARD
TZOFFSETFROM:+0000
TZOFFSETTO:+0000
TZNAME:UTC
DTSTART:20220101T000000
END:STANDARD
END:VTIMEZONE
BEGIN:VEVENT
DTSTART;TZID=UTC:20260129T183000
DTEND;TZID=UTC:20260129T203000
DTSTAMP:20260421T162656
CREATED:20251014T211649Z
LAST-MODIFIED:20251014T211649Z
UID:2789-1769711400-1769718600@www.panhandlepathway.org
SUMMARY:Friends of the Panhandle Pathway Annual Membership and Board Meetings
DESCRIPTION:The Annual Membership Meeting is for the election of Directors and for the transaction of such other business as may properly come before the meeting. \nBoard meeting agenda to be determined. Virtual link also available.
URL:https://www.panhandlepathway.org/event/friends-of-the-panhandle-pathway-annual-membership-and-board-meetings/
LOCATION:Gilsinger’s Meeting House in Pulaski\, IN\, United States
CATEGORIES:Meeting
END:VEVENT
BEGIN:VEVENT
DTSTART;TZID=UTC:20240926T183000
DTEND;TZID=UTC:20240926T183000
DTSTAMP:20260421T162656
CREATED:20230811T204014Z
LAST-MODIFIED:20240923T204744Z
UID:2627-1727375400-1727375400@www.panhandlepathway.org
SUMMARY:Friends of the Panhandle Pathway Board Meeting
DESCRIPTION:Agenda to be determined.
URL:https://www.panhandlepathway.org/event/friends-of-the-panhandle-pathway-board-meeting-10/
LOCATION:Star City Community Church\, 5549 South US 35\, Star City\, IN\, 46985\, United States
CATEGORIES:Meeting
END:VEVENT
BEGIN:VEVENT
DTSTART;TZID=UTC:20240725T183000
DTEND;TZID=UTC:20240725T183000
DTSTAMP:20260421T162656
CREATED:20230811T203757Z
LAST-MODIFIED:20240529T161711Z
UID:2623-1721932200-1721932200@www.panhandlepathway.org
SUMMARY:Friends of the Panhandle Pathway Board Meeting
DESCRIPTION:Location and agenda to be determined.
URL:https://www.panhandlepathway.org/event/friends-of-the-panhandle-pathway-board-meeting-9/
LOCATION:Royal Center Town Hall and Utilities\, 104 E. North Street\, Royal Center\, IN\, 46978\, United States
CATEGORIES:Meeting
END:VEVENT
BEGIN:VEVENT
DTSTART;TZID=UTC:20240530T183000
DTEND;TZID=UTC:20240530T183000
DTSTAMP:20260421T162656
CREATED:20230811T203541Z
LAST-MODIFIED:20240402T184701Z
UID:2621-1717093800-1717093800@www.panhandlepathway.org
SUMMARY:Friends of the Panhandle Pathway Board Meeting
DESCRIPTION:Agenda to be determined. Virtual participation by Zoom is also available.
URL:https://www.panhandlepathway.org/event/friends-of-the-panhandle-pathway-board-meeting-8/
LOCATION:Pulaski County CDC Office\, 623 W. 11th St.\, Winamac\, IN\, 46996
CATEGORIES:Meeting
END:VEVENT
BEGIN:VEVENT
DTSTART;TZID=UTC:20240328T183000
DTEND;TZID=UTC:20240328T183000
DTSTAMP:20260421T162656
CREATED:20230811T203252Z
LAST-MODIFIED:20240129T203901Z
UID:2619-1711650600-1711650600@www.panhandlepathway.org
SUMMARY:Friends of the Panhandle Pathway Annual and Board Meetings
DESCRIPTION:The Annual Meeting will be followed by a Board Meeting. Agenda to be determined.
URL:https://www.panhandlepathway.org/event/friends-of-the-panhandle-pathway-board-meeting-7/
LOCATION:Royal Center Town Hall and Utilities\, 104 E. North Street\, Royal Center\, IN\, 46978\, United States
CATEGORIES:Meeting
END:VEVENT
BEGIN:VEVENT
DTSTART;TZID=UTC:20240125T183000
DTEND;TZID=UTC:20240125T183000
DTSTAMP:20260421T162656
CREATED:20230811T202922Z
LAST-MODIFIED:20240117T170934Z
UID:2616-1706207400-1706207400@www.panhandlepathway.org
SUMMARY:Friends of the Panhandle Pathway Board Meeting
DESCRIPTION:Join this virtual meeting at https://us02web.zoom.us/j/83645555370 \nAgenda to be determined.
URL:https://www.panhandlepathway.org/event/friends-of-the-panhandle-pathway-annual-meeting-2/
LOCATION:IN
CATEGORIES:Meeting
END:VEVENT
BEGIN:VEVENT
DTSTART;TZID=UTC:20230928T183000
DTEND;TZID=UTC:20230928T183000
DTSTAMP:20260421T162656
CREATED:20230805T004722Z
LAST-MODIFIED:20230809T002348Z
UID:2593-1695925800-1695925800@www.panhandlepathway.org
SUMMARY:Friends of the Panhandle Pathway Board Meeting
DESCRIPTION:
URL:https://www.panhandlepathway.org/event/friends-of-the-panhandle-pathway-board-meeting-6/
LOCATION:Gilsinger’s Meeting House in Pulaski\, IN\, United States
CATEGORIES:Meeting
END:VEVENT
BEGIN:VEVENT
DTSTART;TZID=UTC:20230803T183000
DTEND;TZID=UTC:20230803T183000
DTSTAMP:20260421T162656
CREATED:20230603T214120Z
LAST-MODIFIED:20230724T235530Z
UID:2505-1691087400-1691087400@www.panhandlepathway.org
SUMMARY:Friends of the Panhandle Pathway Board Meeting
DESCRIPTION:
URL:https://www.panhandlepathway.org/event/friends-of-the-panhandle-pathway-board-meeting-5/
LOCATION:Royal Center Town Hall and Utilities\, 104 E. North Street\, Royal Center\, IN\, 46978\, United States
CATEGORIES:Meeting
END:VEVENT
BEGIN:VEVENT
DTSTART;TZID=UTC:20230525T183000
DTEND;TZID=UTC:20230525T200000
DTSTAMP:20260421T162656
CREATED:20230405T190858Z
LAST-MODIFIED:20230405T190858Z
UID:2465-1685039400-1685044800@www.panhandlepathway.org
SUMMARY:Friends of the Panhandle Pathway Board Meeting
DESCRIPTION:
URL:https://www.panhandlepathway.org/event/friends-of-the-panhandle-pathway-board-meeting-4/
LOCATION:Pulaski County CDC Office\, 623 W. 11th St.\, Winamac\, IN\, 46996
CATEGORIES:Meeting
END:VEVENT
BEGIN:VEVENT
DTSTART;TZID=UTC:20230420T183000
DTEND;TZID=UTC:20230420T200000
DTSTAMP:20260421T162656
CREATED:20230405T005623Z
LAST-MODIFIED:20230405T005623Z
UID:2462-1682015400-1682020800@www.panhandlepathway.org
SUMMARY:Friends of the Panhandle Pathway Board Meeting
DESCRIPTION:
URL:https://www.panhandlepathway.org/event/friends-of-the-panhandle-pathway-board-meeting-3/
LOCATION:Royal Center Town Hall and Utilities\, 104 E. North Street\, Royal Center\, IN\, 46978\, United States
CATEGORIES:Meeting
END:VEVENT
BEGIN:VEVENT
DTSTART;TZID=UTC:20230330T183000
DTEND;TZID=UTC:20230330T200000
DTSTAMP:20260421T162656
CREATED:20230303T173140Z
LAST-MODIFIED:20230303T173140Z
UID:2448-1680201000-1680206400@www.panhandlepathway.org
SUMMARY:Friends of the Panhandle Pathway Board Meeting
DESCRIPTION:
URL:https://www.panhandlepathway.org/event/friends-of-the-panhandle-pathway-board-meeting-2/
LOCATION:Star City United Methodist Church\, 2347 East Main Street\, Star City\, IN\, 46985\, United States
CATEGORIES:Meeting
END:VEVENT
BEGIN:VEVENT
DTSTART;TZID=UTC:20220929T183000
DTEND;TZID=UTC:20220929T183000
DTSTAMP:20260421T162656
CREATED:20220802T201149Z
LAST-MODIFIED:20220802T201149Z
UID:2281-1664476200-1664476200@www.panhandlepathway.org
SUMMARY:Friends of the Panhandle Pathway Board Meeting
DESCRIPTION:
URL:https://www.panhandlepathway.org/event/friends-of-the-panhandle-pathway-board-meeting/
LOCATION:Gilsinger’s Meeting House in Pulaski\, IN\, United States
CATEGORIES:Meeting
END:VEVENT
BEGIN:VEVENT
DTSTART;TZID=UTC:20220728T183000
DTEND;TZID=UTC:20220728T183000
DTSTAMP:20260421T162656
CREATED:20220718T200649Z
LAST-MODIFIED:20220718T200649Z
UID:2277-1659033000-1659033000@www.panhandlepathway.org
SUMMARY:Friends of the Panhandle Board Meeting
DESCRIPTION:
URL:https://www.panhandlepathway.org/event/friends-of-the-panhandle-board-meeting/
LOCATION:Royal Center Municipal Building
CATEGORIES:Meeting
ATTACH;FMTTYPE=image/png:https://www.panhandlepathway.org/wp-content/uploads/2019/06/Panhandle-Logo-1.png
END:VEVENT
END:VCALENDAR