BEGIN:VCALENDAR
VERSION:2.0
PRODID:-//Panhandle Pathway - ECPv6.13.2.1//NONSGML v1.0//EN
CALSCALE:GREGORIAN
METHOD:PUBLISH
X-ORIGINAL-URL:https://www.panhandlepathway.org
X-WR-CALDESC:Events for Panhandle Pathway
REFRESH-INTERVAL;VALUE=DURATION:PT1H
X-Robots-Tag:noindex
X-PUBLISHED-TTL:PT1H
BEGIN:VTIMEZONE
TZID:UTC
BEGIN:STANDARD
TZOFFSETFROM:+0000
TZOFFSETTO:+0000
TZNAME:UTC
DTSTART:20220101T000000
END:STANDARD
END:VTIMEZONE
BEGIN:VEVENT
DTSTART;TZID=UTC:20220930T173000
DTEND;TZID=UTC:20220930T173000
DTSTAMP:20260424T151406
CREATED:20220916T161420Z
LAST-MODIFIED:20220916T161420Z
UID:2309-1664559000-1664559000@www.panhandlepathway.org
SUMMARY:Food Truck Friday
DESCRIPTION:
URL:https://www.panhandlepathway.org/event/food-truck-friday/
LOCATION:Breakaway Bike and Fitness\, 5 South Wabash Street\, Peru\, IN\, 46970\, United States
CATEGORIES:Ride
END:VEVENT
END:VCALENDAR