BEGIN:VCALENDAR
VERSION:2.0
PRODID:-//Panhandle Pathway - ECPv6.13.2.1//NONSGML v1.0//EN
CALSCALE:GREGORIAN
METHOD:PUBLISH
X-ORIGINAL-URL:https://www.panhandlepathway.org
X-WR-CALDESC:Events for Panhandle Pathway
REFRESH-INTERVAL;VALUE=DURATION:PT1H
X-Robots-Tag:noindex
X-PUBLISHED-TTL:PT1H
BEGIN:VTIMEZONE
TZID:UTC
BEGIN:STANDARD
TZOFFSETFROM:+0000
TZOFFSETTO:+0000
TZNAME:UTC
DTSTART:20250101T000000
END:STANDARD
END:VTIMEZONE
BEGIN:VEVENT
DTSTART;TZID=UTC:20250529T183000
DTEND;TZID=UTC:20250529T183000
DTSTAMP:20260422T222856
CREATED:20250409T164007Z
LAST-MODIFIED:20250409T164007Z
UID:2760-1748543400-1748543400@www.panhandlepathway.org
SUMMARY:Friends of the Panhandle Pathway Board Meeting
DESCRIPTION:Board meeting agenda to be determined. Virtual link also available.
URL:https://www.panhandlepathway.org/event/friends-of-the-panhandle-pathway-board-meeting-13/
LOCATION:Royal Center Town Hall and Utilities\, 104 E. North Street\, Royal Center\, IN\, 46978\, United States
END:VEVENT
BEGIN:VEVENT
DTSTART;TZID=UTC:20250731T183000
DTEND;TZID=UTC:20250731T200000
DTSTAMP:20260422T222856
CREATED:20250607T225001Z
LAST-MODIFIED:20250607T225001Z
UID:2776-1753986600-1753992000@www.panhandlepathway.org
SUMMARY:Friends of the Panhandle Pathway Board Meeting
DESCRIPTION:Board meeting agenda to be determined. Virtual link also available.
URL:https://www.panhandlepathway.org/event/friends-of-the-panhandle-pathway-board-meeting-14/
LOCATION:Gilsinger’s Meeting House in Pulaski\, IN\, United States
END:VEVENT
BEGIN:VEVENT
DTSTART;TZID=UTC:20250925T183000
DTEND;TZID=UTC:20250925T200000
DTSTAMP:20260422T222856
CREATED:20250804T202603Z
LAST-MODIFIED:20260131T193810Z
UID:2780-1758825000-1758830400@www.panhandlepathway.org
SUMMARY:Friends of the Panhandle Pathway Meeting
DESCRIPTION:
URL:https://www.panhandlepathway.org/event/friends-of-the-panhandle-pathway-meeting/
LOCATION:Royal Center Town Hall and Utilities\, 104 E. North Street\, Royal Center\, IN\, 46978\, United States
END:VEVENT
BEGIN:VEVENT
DTSTART;TZID=UTC:20260129T183000
DTEND;TZID=UTC:20260129T203000
DTSTAMP:20260422T222856
CREATED:20251014T211649Z
LAST-MODIFIED:20251014T211649Z
UID:2789-1769711400-1769718600@www.panhandlepathway.org
SUMMARY:Friends of the Panhandle Pathway Annual Membership and Board Meetings
DESCRIPTION:The Annual Membership Meeting is for the election of Directors and for the transaction of such other business as may properly come before the meeting. \nBoard meeting agenda to be determined. Virtual link also available.
URL:https://www.panhandlepathway.org/event/friends-of-the-panhandle-pathway-annual-membership-and-board-meetings/
LOCATION:Gilsinger’s Meeting House in Pulaski\, IN\, United States
CATEGORIES:Meeting
END:VEVENT
BEGIN:VEVENT
DTSTART;TZID=UTC:20260326T183000
DTEND;TZID=UTC:20260326T200000
DTSTAMP:20260422T222856
CREATED:20260131T194440Z
LAST-MODIFIED:20260326T172910Z
UID:2831-1774549800-1774555200@www.panhandlepathway.org
SUMMARY:Friends of the Panhandle Pathway Board Meeting
DESCRIPTION:Board meeting agenda to be determined. Please attend virtually at 6:30 pm. \nMarch Board Meeting | Microsoft Teams | Meetup-Join
URL:https://www.panhandlepathway.org/event/friends-of-the-panhandle-pathway-board-meeting-15/
LOCATION:IN
END:VEVENT
BEGIN:VEVENT
DTSTART;TZID=UTC:20260530T110000
DTEND;TZID=UTC:20260530T140000
DTSTAMP:20260422T222856
CREATED:20260422T171111Z
LAST-MODIFIED:20260422T171511Z
UID:2854-1780138800-1780149600@www.panhandlepathway.org
SUMMARY:2026 Bicycle Rodeo
DESCRIPTION:Ages 4-12 (older or younger are welcome to attend) \nFREE Lunch provided. \nBicycle helmets are required. A limited number of helmets will be available for use. \nTwo boy’s and girl’s bicycles will be raffled off at the end of the event. \nA waiver/registration form will need to be completed and signed by a parent or guardian before a child will be allowed to participate. A parent or guardian must be present during the child’s participation in the event. \nRegistration forms are available at the Winamac Town Office\, the Winamac Police Department\, or at the registration table on the day of the event. \nIf there is rain/a thunderstorm on the event date\, the makeup date is June 20\, 2026.
URL:https://www.panhandlepathway.org/event/2026-bicycle-rodeo/
LOCATION:Winamac Police Department\, 251 W. Main St.\, Winamac\, IN\, 46996\, United States
END:VEVENT
BEGIN:VEVENT
DTSTART;TZID=UTC:20260604T183000
DTEND;TZID=UTC:20260604T203000
DTSTAMP:20260422T222856
CREATED:20260410T235322Z
LAST-MODIFIED:20260410T235322Z
UID:2837-1780597800-1780605000@www.panhandlepathway.org
SUMMARY:Friends of the Panhandle Pathway Board Meeting
DESCRIPTION:Board meeting agenda to be determined. Virtual link also available.
URL:https://www.panhandlepathway.org/event/friends-of-the-panhandle-pathway-board-meeting-16/
LOCATION:Gilsinger’s Meeting House in Pulaski\, IN\, United States
END:VEVENT
BEGIN:VEVENT
DTSTART;TZID=UTC:20260605T183000
DTEND;TZID=UTC:20260605T213000
DTSTAMP:20260422T222856
CREATED:20250208T161446Z
LAST-MODIFIED:20251117T194858Z
UID:2746-1780684200-1780695000@www.panhandlepathway.org
SUMMARY:Moonlight Over the Tippy 2026
DESCRIPTION:Friday June 5\, 2026 \nRegistration/Start Location: Winamac Train Depot in Downtown Winamac\, Indiana\,\non the Corner of Logan & Main Streets\nRegistration: 6:30 p.m./Mass Start Time: 7:00 p.m. Times are EDT. \n$25 Early Registration by 5/29\n$30 day of ride after 5/29\nFree for Ages 15 & Under or Over 80 \nRide Length: The ride begins and ends at the Winamac Train Depot where participants can ride up to 20 miles (round trip). A sag stop (turnaround point) is located at Thornhope. A pulled pork sandwich meal from the Winamac Corner Delli will be provided upon your return. Ride support ends at 9:30 p.m. \nRiders under 15 must be accompanied by an adult. There is no rain date and no refunds will be issued. \nSafety is our primary concern. Riders must utilize proper etiquette and obey all traffic and safety regulations. Helmets required. Head/tail lights recommended. \nFunds from this ride are used to support trail operations\, safety\, and maintenance. \nObtain Printable  Registration Form for viewing\,  mail in or carry in. \nClick here: 2026 Moonlight Over the Tippy Registration Form \n Register Online Now
URL:https://www.panhandlepathway.org/event/moonlight-over-the-tippy-2026/
LOCATION:Winamac Train Depot\, Corner of Logan and Main\, Winamac\, IN\, 46996\, United States
CATEGORIES:Ride
ATTACH;FMTTYPE=image/jpeg:https://www.panhandlepathway.org/wp-content/uploads/2022/11/panhandle_bike_pic.jpg
END:VEVENT
END:VCALENDAR