BEGIN:VCALENDAR
VERSION:2.0
PRODID:-//Panhandle Pathway - ECPv6.13.2.1//NONSGML v1.0//EN
CALSCALE:GREGORIAN
METHOD:PUBLISH
X-WR-CALNAME:Panhandle Pathway
X-ORIGINAL-URL:https://www.panhandlepathway.org
X-WR-CALDESC:Events for Panhandle Pathway
REFRESH-INTERVAL;VALUE=DURATION:PT1H
X-Robots-Tag:noindex
X-PUBLISHED-TTL:PT1H
BEGIN:VTIMEZONE
TZID:UTC
BEGIN:STANDARD
TZOFFSETFROM:+0000
TZOFFSETTO:+0000
TZNAME:UTC
DTSTART:20190101T000000
END:STANDARD
END:VTIMEZONE
BEGIN:VTIMEZONE
TZID:Asia/Karachi
BEGIN:STANDARD
TZOFFSETFROM:+0500
TZOFFSETTO:+0500
TZNAME:PKT
DTSTART:20210101T000000
END:STANDARD
END:VTIMEZONE
BEGIN:VTIMEZONE
TZID:America/New_York
BEGIN:DAYLIGHT
TZOFFSETFROM:-0500
TZOFFSETTO:-0400
TZNAME:EDT
DTSTART:20200308T070000
END:DAYLIGHT
BEGIN:STANDARD
TZOFFSETFROM:-0400
TZOFFSETTO:-0500
TZNAME:EST
DTSTART:20201101T060000
END:STANDARD
END:VTIMEZONE
BEGIN:VEVENT
DTSTART;TZID=UTC:20220806T070000
DTEND;TZID=UTC:20220806T070000
DTSTAMP:20260422T224859
CREATED:20220204T181044Z
LAST-MODIFIED:20220718T193758Z
UID:2138-1659769200-1659769200@www.panhandlepathway.org
SUMMARY:Tippecanoe & Bicycles Too 2022
DESCRIPTION:Saturday\, August 6\, 2022 \nRegistration/Start & End Location: Winamac Train Depot Downtown Winamac\, IN  on the corner of Logan and Main Streets\nRegistration: 6:30 a.m.–9:00 a.m. Times are in EDST\nMass Start Time: 7:00 a.m. \nRide Lengths: 12 miles\, 28 miles\, 40 miles\,  44 miles\, 62 miles\, 102  miles. \nThe entire length of the Panhandle Pathway trail from Winamac to Kenneth is 44 miles roundtrip (down and back). Riders can choose shorter distances to Star City (12 miles down and back) or to Royal Center (28 miles down and back) or as far as the rider wants to bicycle. The 62- and 102-mile rides follow the Panhandle Pathway and include crossing the Tippecanoe River 6 times. The 40- and 102-mile rides include a loop at the Tippecanoe River State Park. \nRide support ends at 5:00 p.m. A pulled pork sandwich meal from the Winamac Corner Delli will be provided from 12:00–3:00 p.m. Maps will be available at registration. Riders under 15 must be accompanied by an adult. There is no rain date and no refunds will be issued. \nSafety is our primary concern. Riders must utilize proper etiquette and obey all traffic and safety regulations. Helmets are required. \nFunds from this ride are used to support trail operations\, safety\, and maintenance. \nRide Details \n Printable form \n Register Online Now\n 
URL:https://www.panhandlepathway.org/event/tippecanoe-bicycles-too-2022/
LOCATION:Winamac Train Depot\, Corner of Logan and Main\, Winamac\, IN\, 46996\, United States
CATEGORIES:Ride
ATTACH;FMTTYPE=image/png:https://www.panhandlepathway.org/wp-content/uploads/2019/04/tippecanoe-and-bicycles-too.png
END:VEVENT
BEGIN:VEVENT
DTSTART;TZID=UTC:20220728T183000
DTEND;TZID=UTC:20220728T183000
DTSTAMP:20260422T224859
CREATED:20220718T200649Z
LAST-MODIFIED:20220718T200649Z
UID:2277-1659033000-1659033000@www.panhandlepathway.org
SUMMARY:Friends of the Panhandle Board Meeting
DESCRIPTION:
URL:https://www.panhandlepathway.org/event/friends-of-the-panhandle-board-meeting/
LOCATION:Royal Center Municipal Building
CATEGORIES:Meeting
ATTACH;FMTTYPE=image/png:https://www.panhandlepathway.org/wp-content/uploads/2019/06/Panhandle-Logo-1.png
END:VEVENT
BEGIN:VEVENT
DTSTART;TZID=UTC:20220603T190000
DTEND;TZID=UTC:20220603T190000
DTSTAMP:20260422T224859
CREATED:20220204T182418Z
LAST-MODIFIED:20220222T153522Z
UID:2136-1654282800-1654282800@www.panhandlepathway.org
SUMMARY:Moonlight  Over the Tippy 2022
DESCRIPTION:Friday June 3\, 2022 \nRegistration/Start Location: Winamac Train Depot Downtown Winamac\, Indiana\non the Corner of Logan & Main Streets\nRegistration: 6:30 p.m./Mass Start Time: 7:00 p.m. Times are EDST. \nRide Length: The ride begins and ends at the Winamac Train Depot where participants can ride up to 20 miles (round trip). A sag stop (turnaround point) is located at Thornhope. A pulled pork sandwich meal from the Winamac Corner Delli will be provided upon your return. Ride support ends at 9:30 p.m. \nRiders under 15 must be accompanied by an adult. There is no rain date and no refunds will be issued. \nSafety is our primary concern. Riders must utilize proper etiquette and obey all traffic and safety regulations. Helmets required. Head/tail lights recommended. \nFunds from this ride are used to support trail operations\, safety\, and maintenance. \nObtain Printable  Registration Form for viewing\,  mail in or carry in. \n2022 Moonlight over the Tippy registration form \n Register Online Now \n 
URL:https://www.panhandlepathway.org/event/moonlight-over-the-tippy-2022/
LOCATION:Winamac Train Depot\, Corner of Logan and Main\, Winamac\, IN\, 46996\, United States
CATEGORIES:Ride
ATTACH;FMTTYPE=image/png:https://www.panhandlepathway.org/wp-content/uploads/2019/04/Moonlight-over-the-Tippy-2.png
END:VEVENT
BEGIN:VEVENT
DTSTART;TZID=Asia/Karachi:20210807T063000
DTEND;TZID=Asia/Karachi:20210807T170000
DTSTAMP:20260422T224859
CREATED:20210209T004030Z
LAST-MODIFIED:20210705T202213Z
UID:1765-1628317800-1628355600@www.panhandlepathway.org
SUMMARY:Tippecanoe & Bicycles Too 2021
DESCRIPTION:Saturday\, August 7\, 2021 \nRegistration/Start & End Location:\nWinamac Train Depot Downtown Winamac\, IN  on the corner of Logan and Main Streets\nRegistration: 6:30 a.m.–9:00 a.m. Times are in EDST\nMass Start Time: 7:00 a.m. \nRide Lengths: 12 miles\, 28 miles\, 40 miles\,  44 miles\, 62 miles\, 102  miles. \nThe entire length of the Panhandle Pathway trail from Winamac to Kenneth is 44 miles roundtrip (down and back). Riders can choose shorter distances to Star City (12 miles down and back) or to Royal Center (28 miles down and back) or as far as the rider wants to bicycle. The 62- and 102-mile rides follow the Panhandle Pathway and include crossing the Tippecanoe River 6 times. The 100 mile ride includes a  40 mile ride through the the Tippecanoe River State Park \nRide support ends at 5:00 p.m. \nRide Details \nObtain Printable  Registration Form for viewing\,  mail in or carry in. \n2021 Tippecanoe and Bicycles Too Registration Form \n Register Online Now\n 
URL:https://www.panhandlepathway.org/event/tippecanoe-bicycles-too-2021/
LOCATION:IN
END:VEVENT
BEGIN:VEVENT
DTSTART;TZID=Asia/Karachi:20210604T183000
DTEND;TZID=Asia/Karachi:20210604T213000
DTSTAMP:20260422T224859
CREATED:20210209T002836Z
LAST-MODIFIED:20210225T210519Z
UID:1759-1622831400-1622842200@www.panhandlepathway.org
SUMMARY:Moonlight  Over the Tippy 2021
DESCRIPTION:Friday June 4\, 2021 \nRegistration/Start Location: Winamac Train Depot Downtown Winamac\, Indiana\non the Corner of Logan & Main Streets\nRegistration: 6:30 p.m./Mass Start Time: 7:00 p.m. Times are EDST. \n  \nRide Length: The ride begins and ends at the Winamac Train Depot where participants can ride up to 20 miles (round trip). A sag stop (turnaround point) is located at Thornhope. Ride support ends at 9:30 p.m. \nSafe COVID19 measures will be in effect. \nObtain Printable  Registration Form for viewing\,  mail in or carry in. \n2021 moonlight over the Tippy registration form \n Register Online Now \n 
URL:https://www.panhandlepathway.org/event/moonlight-over-the-tippy-2021/
LOCATION:Winamac Train Depot\, Corner of Logan and Main\, Winamac\, IN\, 46996\, United States
END:VEVENT
BEGIN:VEVENT
DTSTART;TZID=UTC:20200801T070000
DTEND;TZID=UTC:20200801T070000
DTSTAMP:20260422T224859
CREATED:20200206T232836Z
LAST-MODIFIED:20200613T232826Z
UID:1562-1596265200-1596265200@www.panhandlepathway.org
SUMMARY:CANCELED Tippecanoe and Bicycles Too 2020 CANCELED
DESCRIPTION:12\, 28\, 44\, 62 and 100 Mile Rides \nDate:   CANCELED Saturday\, August 1 CANCELED (Delay till -planned; August 7th 2021) \nTime:     Registration 6:30 a.m.\nRide – mass start at 7:00 a.m.\nFees:   Early Registration (by July 24) $25\nAfter July 24 – $30\nAges 15 and Under & Ages 80 and Over – Free\nContact: Contact us Form\nLocation: Winamac Train Depot\nDowntown Winamac\, Indiana on the corner of Franklin and Main Streets \nThe entire length of the Panhandle Pathway trail from Winamac to Kenneth is 44 miles roundtrip (down and back). Riders can choose shorter distances to Star City (12 miles down and back) or to Royal Center (28 miles down and back) or as far as the rider wants to bicycle. The 62- and 100-mile rides follow the Panhandle Pathway and include crossing the Tippecanoe River 6 times. Ride support ends at 5:00 p.m. (The 100 mile route plan is a 40 mile north route extension that includes riding through the Tippecanoe River State Park)  \nRegistration includes a meal which will be provided from 12:00 p.m.–5:00 p.m. at the end of the ride. Tshirts are available for an additional $15 each. \nRiders under 15 must be accompanied by an adult. There is no rain date and no refunds will be issued. \nAll participants will receive a map at registration. Sag stops will be located along the route. \nPrint Registration Form       EVENT CANCELED FORM REMOVED\n 
URL:https://www.panhandlepathway.org/event/tippecanoe-and-bicycles-too-2020-2/
LOCATION:Winamac Train Depot\, Corner of Logan and Main\, Winamac\, IN\, 46996\, United States
CATEGORIES:Ride
ATTACH;FMTTYPE=image/png:https://www.panhandlepathway.org/wp-content/uploads/2019/04/tippecanoe-and-bicycles-too.png
END:VEVENT
BEGIN:VEVENT
DTSTART;TZID=UTC:20200605T190000
DTEND;TZID=UTC:20200605T190000
DTSTAMP:20260422T224859
CREATED:20191225T164450Z
LAST-MODIFIED:20200423T143455Z
UID:1499-1591383600-1591383600@www.panhandlepathway.org
SUMMARY:Moonlight Over the Tippy 2020 --- RIDE CANCELLED ---
DESCRIPTION:Up to 20 Mile Ride  \nDate:   Friday\, June 5\nTime:     Registration 6:30 p.m.\nRide – 7:00 p.m.\nFees:   Early Registration (by May 29) $20\nAfter May 29 – $25\nAges 15 and Under & Ages 80 and Over – Free\nContact:  Contact Form\nLocation: Winamac Train Depot\nDowntown Winamac\, Indiana on the corner of Logan and Main Streets \n————– \n\n4/22/20 – – – We have been closely monitoring the Corona virus (COVID-19) pandemic situation and have made the difficult decision to cancel our Moonlight Over the Tippy bicycle ride on Friday evening\, June 5th\, 2020 in Winamac\, Indiana.\n \n——- \nRegistration Fee Includes Friday Meal. Tshirts are available for an additional $15 each. \nThe ride begins and ends at the Winamac Train Depot where participants can ride up to 20 miles (roundtrip) . A sag stop (turnaround point) is located near Thornhope. A pizza meal at Tippy’s will be provided upon your return. The ride ends at 10:00 p.m . \nPrint Registration Form\n Register Now\n  \n 
URL:https://www.panhandlepathway.org/event/moonlight-over-the-tippy2020/
LOCATION:Winamac Train Depot\, Corner of Logan and Main\, Winamac\, IN\, 46996\, United States
CATEGORIES:Ride
ATTACH;FMTTYPE=image/png:https://www.panhandlepathway.org/wp-content/uploads/2019/04/Moonlight-over-the-Tippy-2.png
END:VEVENT
BEGIN:VEVENT
DTSTART;TZID=America/New_York:20200326T183000
DTEND;TZID=America/New_York:20200326T183100
DTSTAMP:20260422T224859
CREATED:20190908T152359Z
LAST-MODIFIED:20200323T160935Z
UID:1419-1585247400-1585247460@www.panhandlepathway.org
SUMMARY:CANCELED - March Public Board Meeting - CANCELED
DESCRIPTION:Due to  COVID-19 Rules\nThe Board and officers will have a small meeting to go over the operation of the Panhandle Pathway  If you have a question or comment you would like to get to the board please post a note on our Contact Us link. \n\n  \nAGENDA \nCall to Order \nReview and Approval of Minutes from January Annual Meeting 2020 in Royal Center \nReview and Approval of the Financial Report \nOld Business \nNew Business \nCommittee Reports:\n– Nature Committee\n– Construction/Land Acquisition Committee\n– Maintenance and Safety Committee\n– Public Relations Committee\n– Publicity Committee\n– Fundraising and Events Committee\n– State Park Access\n– Liaison Committee \nOther stuff
URL:https://www.panhandlepathway.org/event/public-board-meeting/
LOCATION:IN
END:VEVENT
BEGIN:VEVENT
DTSTART;TZID=UTC:20200130T183000
DTEND;TZID=UTC:20200130T193000
DTSTAMP:20260422T224859
CREATED:20191227T163112Z
LAST-MODIFIED:20191227T163556Z
UID:1520-1580409000-1580412600@www.panhandlepathway.org
SUMMARY:Annual Membership & Annual Board Meeting
DESCRIPTION: Royal Center Municipal Building  6:30pm\n1- Annual Membership Meeiting \nAgenda:\nCall meeting to order. \nNomination of directors- \nElection of Board of Directors \nAny other member items \nAdjourn \n2- Annual Board Meeting (directly after membership meeting) \n\nCall to order\nAppointment of Officers\nAppointment of Committee Chairs\nReview and Approve Minutes Minutes “MINUTES For Thursday\, September 26\, 2019 Winamac Municipal Bldg\nReview and Approve Financial Report-\nReview and discuss committee activities\nOperations\nMaintenance/Saftey\nConstruction\nPublic Relations\nFund raising\nLand Acquistion\nLiasion\nNature\nAdjourn\n\n  \n  \n 
URL:https://www.panhandlepathway.org/event/annual-membership-annual-board-meeting/
LOCATION:Royal Center Municipal Building
END:VEVENT
BEGIN:VEVENT
DTSTART;TZID=UTC:20200117T160000
DTEND;TZID=UTC:20200117T190000
DTSTAMP:20260422T224859
CREATED:20191226T004811Z
LAST-MODIFIED:20191226T155627Z
UID:1502-1579276800-1579287600@www.panhandlepathway.org
SUMMARY:FISH FRY & BAKE SALE
DESCRIPTION:Come Join us for a delicious fried fish dinner and extras at the Winamac VFW. \nSpecial bake sale items \nDrive through or eat in.  Eat as much as you like inside. \n4pm – 7pm \nAdults $9.00  Under 12 $5.00 \n 
URL:https://www.panhandlepathway.org/event/fish-fry-bake-sale/
LOCATION:Winamac VFW 1728\, North US35\, Winamac\, IN\, 46996\, United States
END:VEVENT
BEGIN:VEVENT
DTSTART;TZID=UTC:20191116T090000
DTEND;TZID=UTC:20191116T090000
DTSTAMP:20260422T224859
CREATED:20191110T162831Z
LAST-MODIFIED:20191110T163115Z
UID:1481-1573894800-1573894800@www.panhandlepathway.org
SUMMARY:Brush Cutting Clean UP day - South Side of Winamac
DESCRIPTION:We are going to have a work day next Saturday Nov 16th starting at 9:00 am\, weather permitting\, to cut brush on the Z-pass and by Pablanos (Winamac south side). Please pass this on to others who would like to help. \nBring some of your brush cutting tools if you can. It would be good to please let Mike O ( moconnor54@gmail.com ) know if you plan to come. \nMeet at 150N trailhead. (Pablanos) at 9am on the 16th. Thanks!
URL:https://www.panhandlepathway.org/event/brush-cutting-clean-up-day-south-side-of-winamac/
LOCATION:IN
END:VEVENT
BEGIN:VEVENT
DTSTART;TZID=UTC:20191102T090000
DTEND;TZID=UTC:20191102T120000
DTSTAMP:20260422T224859
CREATED:20191015T182116Z
LAST-MODIFIED:20191015T182116Z
UID:1440-1572685200-1572696000@www.panhandlepathway.org
SUMMARY:Star City Clean Up Day
DESCRIPTION:Star City Clean Up Day \nSaturday\, November 2nd\, 9 a.m. to 12 noon.Meet at the crossing of the Panhandle Pathway and Main Street\, Star City. \nBring gloves\, a rake and a trash bag. \nThe plan:  We will be working to clean up the brush and trash between the Panhandle Pathway and South Judson Street starting at Main Street on the north and working south to the south edge of town or 12 noon whichever comes first. \nQuestions?  Contact John Bawcum at 574-595-0819 or Cathy Fritz at 574-946-7734.
URL:https://www.panhandlepathway.org/event/star-city-clean-up-day/
LOCATION:IN
END:VEVENT
BEGIN:VEVENT
DTSTART;TZID=UTC:20190920T180000
DTEND;TZID=UTC:20190920T180000
DTSTAMP:20260422T224859
CREATED:20190425T174425Z
LAST-MODIFIED:20190425T174510Z
UID:1139-1569002400-1569002400@www.panhandlepathway.org
SUMMARY:Friday Night Feast 2019
DESCRIPTION:Date:   Friday\, September 20\nTime:     Meet and Greet – 5:30 p.m.\nRide 6:00 p.m.\nContact:  contact@breakawaybike.com or 765-473-3848\nLocation: One-Eyed Jacks\n124 N Market St.\, Winamac\, IN \nThis is a FREE ride for everyone with one goal in mind: fun! Group riding experience is helpful but not necessary. You need to be comfortable riding in a group\, on the road\, and with terrain changes. We have a longer and shorter route to choose from and the pace will depend on the group. No one will be left behind. Our focus is meeting new friends\, eating good food\, and having a great time! We will ride first and then return to One-Eyed-Jacks. \nSafety is our primary concern\, so helmets and head and tail lights are required. Riders must utilize proper etiquette and obey all traffic and safety regulations. Please ensure your bike is in good working order prior to ride. \nRoutes\n\n20.2 Miles\n\nCreate Routes\nor Search for a route\nfrom millions at MapMyRide\n\n\n12.2 Miles\n\nCreate Routes\nor Search for a route\nfrom millions at MapMyRide
URL:https://www.panhandlepathway.org/event/friday-night-feast-2019/
LOCATION:One-Eyed Jack\, 124 N Market St.\, Winamac\, IN\, 46996\, United States
CATEGORIES:Ride
ATTACH;FMTTYPE=image/jpeg:https://www.panhandlepathway.org/wp-content/uploads/2019/04/one-eyed-jacks.jpg
END:VEVENT
BEGIN:VEVENT
DTSTART;TZID=UTC:20190803T070000
DTEND;TZID=UTC:20190803T070000
DTSTAMP:20260422T224859
CREATED:20190416T205131Z
LAST-MODIFIED:20190725T190411Z
UID:1053-1564815600-1564815600@www.panhandlepathway.org
SUMMARY:Tippecanoe and Bicycles Too 2019
DESCRIPTION:12\, 28\, 44 and 65 Mile Rides \nDate:   Saturday\, August 3\nTime:     Registration 6:30 a.m.\nRide – mass start at 7:00 a.m.\nFees:   Early Registration (postmarked by July 19) $20\nAfter July 19 – $25\nAges 8 to 15 – $10\nAges 7 and Under & Ages 80 and Over – Free\nRoute:   Map\nLocation: Winamac Train Depot\nDowntown Winamac\, Indiana on the corner of Franklin and Main Streets \nThe entire length of the Panhandle Pathway trail from Winamac to Kenneth is 44 miles round trip (down and back). Riders can choose shorter distances to Star City (12 miles down and back) or to Royal Center (28 miles down and back) or as far as the rider wants to bicycle. The new 65-mile ride follows the Pathway to Kenneth\, then follows county roads back to Winamac via Buffalo\, crossing the Tippecanoe River 6 times. The ride concludes at 2 p.m. \nEarly registered participants (postmarked by July 20) will receive a T-shirt. Pre-registered participants will receive a T-shirt. All participants will receive a map at registration. Sag stops will be located along the route. \nOnline registrations are no longer available. You can still print the registration and bring it with you to the event. \n Print registration form
URL:https://www.panhandlepathway.org/event/tippecanoe-and-bicycles-too-2019/
LOCATION:Winamac Train Depot\, Corner of Logan and Main\, Winamac\, IN\, 46996\, United States
CATEGORIES:Ride
ATTACH;FMTTYPE=image/png:https://www.panhandlepathway.org/wp-content/uploads/2019/04/tippecanoe-and-bicycles-too.png
END:VEVENT
BEGIN:VEVENT
DTSTART;TZID=UTC:20190607T190000
DTEND;TZID=UTC:20190607T190000
DTSTAMP:20260422T224859
CREATED:20190412T213440Z
LAST-MODIFIED:20190425T181617Z
UID:1010-1559934000-1559934000@www.panhandlepathway.org
SUMMARY:Moonlight Over the Tippy
DESCRIPTION:Up to 20 Mile Ride \nDate:   Friday\, June 7\nTime:     Registration 6:30 p.m.\nRide – 7:00 p.m.\nFees:   Early Registration (by May 24) $20\nAfter May 24 – $25\nAges 8 to 15 – $10\nAges 7 and Under & Ages 80 and Over – Free\nLocation: Winamac Train Depot\nDowntown Winamac\, Indiana on the corner of Logan and Main Streets \nRegistration Fee Includes Friday Meal and t-shirt. \nThe ride begins and ends at the Winamac Train Depot where participants can ride up to 20 miles (roundtrip) . A sag stop (turnaround point) is located near Thornhope. A pizza meal at Tippy’s will be provided upon your return. The ride ends at 10:00 p.m . \n Register
URL:https://www.panhandlepathway.org/event/moonlight_over_tippy_2019/
LOCATION:Winamac Train Depot\, Corner of Logan and Main\, Winamac\, IN\, 46996\, United States
CATEGORIES:Ride
ATTACH;FMTTYPE=image/png:https://www.panhandlepathway.org/wp-content/uploads/2019/04/Moonlight-over-the-Tippy-2.png
END:VEVENT
END:VCALENDAR