BEGIN:VCALENDAR
VERSION:2.0
PRODID:-//Panhandle Pathway - ECPv6.13.2.1//NONSGML v1.0//EN
CALSCALE:GREGORIAN
METHOD:PUBLISH
X-WR-CALNAME:Panhandle Pathway
X-ORIGINAL-URL:https://www.panhandlepathway.org
X-WR-CALDESC:Events for Panhandle Pathway
REFRESH-INTERVAL;VALUE=DURATION:PT1H
X-Robots-Tag:noindex
X-PUBLISHED-TTL:PT1H
BEGIN:VTIMEZONE
TZID:UTC
BEGIN:STANDARD
TZOFFSETFROM:+0000
TZOFFSETTO:+0000
TZNAME:UTC
DTSTART:20230101T000000
END:STANDARD
END:VTIMEZONE
BEGIN:VEVENT
DTSTART;TZID=UTC:20230922T173000
DTEND;TZID=UTC:20230922T173000
DTSTAMP:20260423T124635
CREATED:20230731T190856Z
LAST-MODIFIED:20230731T190856Z
UID:2581-1695403800-1695403800@www.panhandlepathway.org
SUMMARY:Winamac Friday Night Feast Ride
DESCRIPTION:
URL:https://www.panhandlepathway.org/event/winamac-friday-night-feast-ride-2/
LOCATION:One-Eyed Jack\, 124 N Market St.\, Winamac\, IN\, 46996\, United States
END:VEVENT
BEGIN:VEVENT
DTSTART;VALUE=DATE:20230923
DTEND;VALUE=DATE:20230924
DTSTAMP:20260423T124635
CREATED:20230616T171456Z
LAST-MODIFIED:20230616T171456Z
UID:2508-1695427200-1695513599@www.panhandlepathway.org
SUMMARY:4th Annual Buffalo Bicycle Stampede
DESCRIPTION:
URL:https://www.panhandlepathway.org/event/4th-annual-buffalo-bicycle-stampede/
LOCATION:Camp Buffalo\, 9400 N Boy Scout Rd\, Monticello\, IN\, 46960\, United States
CATEGORIES:Ride
END:VEVENT
BEGIN:VEVENT
DTSTART;TZID=UTC:20230928T183000
DTEND;TZID=UTC:20230928T183000
DTSTAMP:20260423T124635
CREATED:20230805T004722Z
LAST-MODIFIED:20230809T002348Z
UID:2593-1695925800-1695925800@www.panhandlepathway.org
SUMMARY:Friends of the Panhandle Pathway Board Meeting
DESCRIPTION:
URL:https://www.panhandlepathway.org/event/friends-of-the-panhandle-pathway-board-meeting-6/
LOCATION:Gilsinger’s Meeting House in Pulaski\, IN\, United States
CATEGORIES:Meeting
END:VEVENT
END:VCALENDAR